BEGIN:VCALENDAR
VERSION:2.0
PRODID:-//AAD Conference - ECPv6.15.20//NONSGML v1.0//EN
CALSCALE:GREGORIAN
METHOD:PUBLISH
X-ORIGINAL-URL:https://aadconference.africa
X-WR-CALDESC:Events for AAD Conference
REFRESH-INTERVAL;VALUE=DURATION:PT1H
X-Robots-Tag:noindex
X-PUBLISHED-TTL:PT1H
BEGIN:VTIMEZONE
TZID:Africa/Johannesburg
BEGIN:STANDARD
TZOFFSETFROM:+0200
TZOFFSETTO:+0200
TZNAME:SAST
DTSTART:20250101T000000
END:STANDARD
END:VTIMEZONE
BEGIN:VEVENT
DTSTART;VALUE=DATE:20261026
DTEND;VALUE=DATE:20261031
DTSTAMP:20260420T222153
CREATED:20251217T070204Z
LAST-MODIFIED:20260224T160157Z
UID:1694-1792972800-1793404799@aadconference.africa
SUMMARY:The Return to Africa Conference
DESCRIPTION:Tickets for the ‘The Return to Africa’ Conference 2026.
URL:https://aadconference.africa/event/the-return-to-africa/
END:VEVENT
BEGIN:VEVENT
DTSTART;VALUE=DATE:20261026
DTEND;VALUE=DATE:20261031
DTSTAMP:20260420T222153
CREATED:20251223T162740Z
LAST-MODIFIED:20260116T145417Z
UID:1805-1792972800-1793404799@aadconference.africa
SUMMARY:Gala Dinner
DESCRIPTION:Tickets for ‘The Return to Africa’ Gala Dinner.
URL:https://aadconference.africa/event/gala-dinner/
END:VEVENT
END:VCALENDAR